BEGIN:VCALENDAR
VERSION:2.0
PRODID:-//hacksw/handcal//NONSGML v1.0//EN
BEGIN:VEVENT
SUMMARY:Anniversaire Christophe JUD
UID:9967c0e2-872d-4ade-8b9e-c3fe1cbe90d0
DTSTART:20260528T220000Z
DTEND:20260529T220000Z
LOCATION:Localisation   
CATEGORIES:Festif
STATUS:
URL;VALUE=URI:https://boulevolante.sportsregions.fr/evenements/2026/05/29/anniversaire-christophe-jud-2426264
END:VEVENT
END:VCALENDAR
