BEGIN:VCALENDAR
VERSION:2.0
PRODID:-//hacksw/handcal//NONSGML v1.0//EN
BEGIN:VEVENT
SUMMARY:Anniversaire Christian SHORDAN
UID:43ed81ae-ba05-456d-9ffc-a0b355bf65a8
DTSTART:20260518T220000Z
DTEND:20260519T220000Z
LOCATION:Localisation   
CATEGORIES:Festif
STATUS:
URL;VALUE=URI:https://boulevolante.sportsregions.fr/evenements/2026/05/19/anniversaire-christian-shordan-2426263
END:VEVENT
END:VCALENDAR
