BEGIN:VCALENDAR
VERSION:2.0
PRODID:-//hacksw/handcal//NONSGML v1.0//EN
BEGIN:VEVENT
SUMMARY:Reunion du Comite
UID:49f29622-53c9-4a4b-bf3b-d5e87c3db3b5
DTSTART:20260412T220000Z
DTEND:20260413T220000Z
LOCATION:Localisation   
CATEGORIES:Administratif
STATUS:
URL;VALUE=URI:https://boulevolante.sportsregions.fr/evenements/2026/04/13/reunion-du-comite-2426265
END:VEVENT
END:VCALENDAR
