BEGIN:VCALENDAR
VERSION:2.0
PRODID:-//hacksw/handcal//NONSGML v1.0//EN
BEGIN:VEVENT
SUMMARY:Concours de tarot
UID:adea1fc1-e0c1-4cdb-a81a-75132569fb5f
DTSTART:20260401T220000Z
DTEND:20260402T220000Z
LOCATION:Localisation   
CATEGORIES:Festif
STATUS:
URL;VALUE=URI:https://boulevolante.sportsregions.fr/evenements/2026/04/02/concours-de-tarot-2426267
END:VEVENT
END:VCALENDAR
